Workbook

Sheet ปกติ
A1: จำนวนนักศึกษา หลักสูตร.......................... สาขาวิชา...................................
A2: หลักสูตรปรับปรุง ปี พ.ศ. 2560
A4: รายละเอียด | B4: หน่วยนับ | C4: 2560 | D4: 2561 | E4: 2562 | F4: 2563 | G4: 2564
A5: ชั้นปีที่ 1 | B5: คน
A6: ชั้นปีที่ 2 | B6: คน
A7: ชั้นปีที่ 3 | B7: คน
A8: ชั้นปีที่ 4 | B8: คน
A9: รวม | B9: คน | C9: =+C5+C6+C7+C8 -> 0 | D9: =+D5+D6+D7+D8 -> 0 | E9: =+E5+E6+E7+E8 -> 0 | F9: =+F5+F6+F7+F8 -> 0 | G9: =+G5+G6+G7+G8 -> 0
A10: คาดว่าจะจบการศึกษา | B10: คน | C10: =+C8 -> 0 | D10: =+D8 -> 0 | E10: =+E8 -> 0 | F10: =+F8 -> 0 | G10: =+G8 -> 0
A11: หมายเหตุ: จำนวนนักศึกษา ตามแผนพัฒนาฉบับที่ 12 ณ วันที่ 15 ธันวาคม 2559
A12: จำนวนหน่วยกิตตลอดหลักสูตร | D12: หน่วยกิต
A13: ค่าบำรุงการศึกษา | C13: บาท/คน/ภาคการศึกษา | E13: =+B13*2 -> 0 | F13: บาท/คน/ปี
A14: ค่าลงทะเบียน | C14: บาท/หน่วยกิต | E14: =+B14*(C12/4) -> 0 | F14: บาท/คน/ปี
A15: ค่าเล่าเรียนรวม | E15: =SUM(E13:E14) -> 0 | F15: บาท/คน/ปี
A16: เงินอุดหนุนจากรัฐบาล | B16: 70000 | C16: บาท/หัวนักศึกษา
A17: รวมรายรับ | B17: =E15+B16 -> 70000 | C17: บาท/คน/ปี
A19: ประมาณการรายรับ | B19: หน่วยนับ | C19: 2560 | D19: 2561 | E19: 2562 | F19: 2563 | G19: 2564
A20: ค่าบำรุงการศึกษา | B20: บาท/ปี | C20: =+$E$13*C9 -> 0 | D20: =+$E$13*D9 -> 0 | E20: =+$E$13*E9 -> 0 | F20: =+$E$13*F9 -> 0 | G20: =+$E$13*G9 -> 0
A21: ค่าลงทะเบียน | B21: บาท/ปี | C21: =+$E$14*C9 -> 0 | D21: =+$E$14*D9 -> 0 | E21: =+$E$14*E9 -> 0 | F21: =+$E$14*F9 -> 0 | G21: =+$E$14*G9 -> 0
A22: เงินอุดหนุนจากรัฐบาล | B22: บาท/ปี | C22: =+$B$16*C9 -> 0 | D22: =+$B$16*D9 -> 0 | E22: =+$B$16*E9 -> 0 | F22: =+$B$16*F9 -> 0 | G22: =+$B$16*G9 -> 0
A23: รวม | B23: บาท/ปี | C23: =+C20+C21+C22 -> 0 | D23: =+D20+D21+D22 -> 0 | E23: =+E20+E21+E22 -> 0 | F23: =+F20+F21+F22 -> 0 | G23: =+G20+G21+G22 -> 0
A24: หมายเหตุ : - การคำนวณประมาณการรายรับคำนวณจากนักศึกษาทั้งหมด
A25: - การคำนวณรายรับจากค่าลงทะเบียนคิดในอัตรา บาท/หน่วยกิตและคิดจากนักศึกษาทั้งหมด
A26: จำนวนหน่วยกิตปีการศึกษาละ หน่วยกิต (ตลอดหลักสูตร หน่วยกิต)
A28: หน่วยงานฯ รับผิดชอบหลักสูตรในภาพรวมทั้งสิ้น .... หลักสูตร

Sheet Expend
A1: ประมาณการค่าใช้จ่ายของหลักสูตร | I1: รายจ่ายวิชาพื้นฐาน | L1: เงินอุดหนุนจากภาครัฐแบ่งเข้าวิชาพื้นฐาน
A2: รายการ | B2: ปีงบประมาณ | I2: วิชาพื้นฐานคณะอื่น | J2: ปี 1 | L2: 22600 | M2: บาท/วิชา/ปี
B3: 2560 | C3: 2561 | D3: 2562 | E3: 2563 | F3: 2564 | J3: ปี 2
A4: 1. ค่าใช้จ่ายบุคลากร | B4: =+B5+B6 -> 0 | C4: =+C5+C6 -> #DIV/0! | D4: =+D5+D6 -> #DIV/0! | E4: =+E5+E6 -> #DIV/0! | F4: =+F5+F6 -> #DIV/0! | J4: ปี 3
A5: เงินเดือน | B5: =+B37+B43 -> 0 | C5: =+C37+C43 -> #DIV/0! | D5: =+D37+D43 -> #DIV/0! | E5: =+E37+E43 -> #DIV/0! | F5: =+F37+F43 -> #DIV/0! | J5: ปี 4
A6: สวัสดิการ 26% | B6: =+B5*26% -> 0 | C6: =+C5*26% -> #DIV/0! | D6: =+D5*26% -> #DIV/0! | E6: =+E5*26% -> #DIV/0! | F6: =+F5*26% -> #DIV/0! | J6: รวม | K6: =SUM(K2:K5) -> 0
J7: เฉลี่ย 4 ปี | K7: =+K6/4 -> 0
A8: 2. ค่าใช้จ่ายดำเนินงาน | B8: =SUM(B9:B14) -> 0 | C8: =SUM(C9:C14) -> 0 | D8: =SUM(D9:D14) -> 0 | E8: =SUM(E9:E14) -> 0 | F8: =SUM(F9:F14) -> 0
A9: 2.1 ค่าตอบแทน | I9: ค่าตอบแทน
A10: 2.2 ค่าใช้สอย | B10: =5000*ปกติ!C9 -> 0 | C10: =5000*ปกติ!D9 -> 0 | D10: =5000*ปกติ!E9 -> 0 | E10: =5000*ปกติ!F9 -> 0 | F10: =5000*ปกติ!G9 -> 0 | J10: 2560 | K10: 2561 | L10: 2562 | M10: 2563 | N10: 2564
A11: 2.3 ค่าวัสดุ | B11: =5000*ปกติ!C9 -> 0 | C11: =5000*ปกติ!D9 -> 0 | D11: =5000*ปกติ!E9 -> 0 | E11: =5000*ปกติ!F9 -> 0 | F11: =5000*ปกติ!G9 -> 0 | J11: =600*(15*3*4)*4 -> 432000 | K11: =600*(15*3*4)*4 -> 432000 | L11: =600*(15*3*4)*4 -> 432000 | M11: =600*(15*3*4)*4 -> 432000 | N11: =600*(15*3*4)*4 -> 432000
A12: 2.4 ค่าสาธารณูปโภค | B12: =4000*ปกติ!C9 -> 0 | C12: =4000*ปกติ!D9 -> 0 | D12: =4000*ปกติ!E9 -> 0 | E12: =4000*ปกติ!F9 -> 0 | F12: =4000*ปกติ!G9 -> 0
A13: 2.5 ทุนการศึกษา
A14: 2.6 รายจ่ายอื่น (รายจ่ายวิชาพื้นฐาน) | B14: =(500*ปกติ!C9*$K$7)+(($K$7*ปกติ!C9)/36)*$L$2 -> 0 | C14: =(500*ปกติ!D9*$K$7)+(($K$7*ปกติ!D9)/36)*$L$2 -> 0 | D14: =(500*ปกติ!E9*$K$7)+(($K$7*ปกติ!E9)/36)*$L$2 -> 0 | E14: =(500*ปกติ!F9*$K$7)+(($K$7*ปกติ!F9)/36)*$L$2 -> 0 | F14: =(500*ปกติ!G9*$K$7)+(($K$7*ปกติ!G9)/36)*$L$2 -> 0
A16: 3. รายจ่ายให้มหาวิทยาลัย | B16: =+(ปกติ!C9*30000) -> 0 | C16: =+(ปกติ!D9*30000) -> 0 | D16: =+(ปกติ!E9*30000) -> 0 | E16: =+(ปกติ!F9*30000) -> 0 | F16: =+(ปกติ!G9*30000) -> 0
A18: 4. งบลงทุน | B18: =+B19 -> 0 | C18: =+C19 -> 0 | D18: =+D19 -> 0 | E18: =+E19 -> 0 | F18: =+F19 -> 0
A19: ครุภัณฑ์
A20: รวมทั้งสิ้น | B20: =+B4+B8+B16+B18 -> 0 | C20: =+C4+C8+C16+C18 -> #DIV/0! | D20: =+D4+D8+D16+D18 -> #DIV/0! | E20: =+E4+E8+E16+E18 -> #DIV/0! | F20: =+F4+F8+F16+F18 -> #DIV/0!
A22: ค่าใช้จ่ายต่อหัวนักศึกษา | B22: =+B20/ปกติ!C9 -> #DIV/0! | C22: =+C20/ปกติ!D9 -> #DIV/0! | D22: =+D20/ปกติ!E9 -> #DIV/0! | E22: =+E20/ปกติ!F9 -> #DIV/0! | F22: =+F20/ปกติ!G9 -> #DIV/0!
A23: ค่าใช้จ่ายเฉลี่ยต่อหัวนักศึกษา | B23: =AVERAGE(B22:F22) -> #DIV/0!
A25: รายรับหักรายจ่าย | B25: =+ปกติ!C23-Expend!B20 -> 0 | C25: =+ปกติ!D23-Expend!C20 -> #DIV/0! | D25: =+ปกติ!E23-Expend!D20 -> #DIV/0! | E25: =+ปกติ!F23-Expend!E20 -> #DIV/0! | F25: =+ปกติ!G23-Expend!F20 -> #DIV/0!
A26: หมายเหตุ :-
A30: รายการ | B30: ปีงบประมาณ
B31: 2560 | C31: 2561 | D31: 2562 | E31: 2563 | F31: 2564
A32: 1. การคิดเงินเดือน
A33: - คิดตาม อ. : นศ. 1 : 20 | B33: =+ปกติ!C9/20 -> 0 | C33: =+ปกติ!D9/20 -> 0 | D33: =+ปกติ!E9/20 -> 0 | E33: =+ปกติ!F9/20 -> 0 | F33: =+ปกติ!G9/20 -> 0 | I33: อาจารย์/นศ. (คน) | J33: =+ปกติ!C9/20 -> 0 | K33: =+ปกติ!D9/20 -> 0 | L33: =+ปกติ!E9/20 -> 0 | M33: =+ปกติ!F9/20 -> 0 | N33: =+ปกติ!G9/20 -> 0
A34: - คิดเงินเดือนเฉลี่ย | B34: =+(B33*J34)*12 -> 0 | C34: =+(B34/B33/12)*1.06*C33*12 -> #DIV/0! | D34: =+(C34/C33/12)*1.06*D33*12 -> #DIV/0! | E34: =+(D34/D33/12)*1.06*E33*12 -> #DIV/0! | F34: =+(E34/E33/12)*1.06*F33*12 -> #DIV/0! | I34: ง/ด อาจารย์เฉลี่ย
A35: ฐานเงินเดือนสายวิชาการคณะ บาทต่อคนต่อเดือน
A36: เงินเดือนมีการปรับขึ้น ปีละประมาณ 6%
A37: รวมเงินเดือน | B37: =+B34 -> 0 | C37: =+C34 -> #DIV/0! | D37: =+D34 -> #DIV/0! | E37: =+E34 -> #DIV/0! | F37: =+F34 -> #DIV/0!
A39: - คิดเจ้าหน้าที่ตาม อ. : จนท. 1 : 0.25 | B39: =+B33*0.25 -> 0 | C39: =+C33*0.25 -> 0 | D39: =+D33*0.25 -> 0 | E39: =+E33*0.25 -> 0 | F39: =+F33*0.25 -> 0
A40: - คิดเงินเดือนเฉลี่ย | B40: =+B39*J40*12 -> 0 | C40: =+(B40/C39/12*1.06)*C39*12 -> #DIV/0! | D40: =+(C40/D39/12*1.06)*D39*12 -> #DIV/0! | E40: =+(D40/E39/12*1.06)*E39*12 -> #DIV/0! | F40: =+(E40/F39/12*1.06)*F39*12 -> #DIV/0! | I40: ง/ด จนท.เฉลี่ย
A41: ฐานเงินเดือนเฉลี่ย บาทต่อคนต่อเดือน
A42: โดยเงินเดือนมีการปรับขึ้น ปีละประมาณ 6%
A43: รวมเงินเดือน | B43: =+B40 -> 0 | C43: =+C40 -> #DIV/0! | D43: =+D40 -> #DIV/0! | E43: =+E40 -> #DIV/0! | F43: =+F40 -> #DIV/0!
A45: รวมเงินเดือนอ./จนท. | B45: =+B37+B43 -> 0 | C45: =+C37+C43 -> #DIV/0! | D45: =+D37+D43 -> #DIV/0! | E45: =+E37+E43 -> #DIV/0! | F45: =+F37+F43 -> #DIV/0!
A47: 2. ค่าใช้จ่ายดำเนินงาน
A48: 2.1 การคิดค่าตอบแทน ค่าจ้างบุคลากรภายนอก/ภายใน ชั่วโมงละ บาท *จำนวนชั่วโมง สัปดาห์ x เครดิต x รายวิชา) * ชั้นปี
A49: 2.2 ค่าใช้สอย อ้างอิงตามที่หน่วยงานเสนอมา คิดในอัตรา บาท/หัวนักศึกษา
A50: 2.3 ค่าวัสดุ อ้างอิงตามที่หน่วยงานเสนอมา คิดในอัตรา บาท/หัวนักศึกษา
A51: 2.4 ค่าสาธารณูปโภค บาท/หัวนักศึกษา
A52: 2.5 ทุนการศึกษา ทุนส่งเสริมเรียนดี ประมาณการ บาท/หลักสูตร/คน
A53: 2.6 รายจ่ายอื่น (รายจ่ายวิชาพื้นฐาน) แบ่งเป็น 2 ส่วนคือ
A54: - เงินจากค่าเล่าเรียน ปีละ หน่วยกิต/ชั้นปี (ตลอดหลักสูตร หน่วยกิต) ในอัตรา 500 บาทต่อหน่วยกิต
A55: - ส่วนเงินรัฐ โดยคิด FTES ละ 22,600 บาทต่อหน่วยกิต (ข้อมูล UnitCost ที่มา ณ ข้อมูลแผน ปี 2560 )
A56: 3. รายจ่ายให้มหาวิทยาลัย คิดในอัตรา 30,000 บาทต่อคนต่อปี (โดยใช้ตามเกณฑ์มหาวิทยาลัย)
A57: 4. งบลงทุน เป็นครุภัณฑ์ที่ใช้ในการสอน
A58: 5. การคิดเกณฑ์อาจารย์ต่อนักศึกษา 1 หลักสูตร อาจารย์ผู้รับผิดชอบหลักสูตรต้องประจำหลักสูตรนั้นตลอดเวลา
... A60: หรือสหวิทยาการ ในหนึ่งหลักสูตรมีอาจารย์ผู้รับผิดชอบซ้ำได้ไม่เกิน 2 คน
